BEGIN:VCALENDAR
VERSION:2.0
PRODID:-//Wynwood Business Improvement District -- Miami, Florida - ECPv6.15.16//NONSGML v1.0//EN
CALSCALE:GREGORIAN
METHOD:PUBLISH
X-ORIGINAL-URL:https://wynwoodmiami.com
X-WR-CALDESC:Events for Wynwood Business Improvement District -- Miami, Florida
REFRESH-INTERVAL;VALUE=DURATION:PT1H
X-Robots-Tag:noindex
X-PUBLISHED-TTL:PT1H
BEGIN:VTIMEZONE
TZID:America/New_York
BEGIN:DAYLIGHT
TZOFFSETFROM:-0500
TZOFFSETTO:-0400
TZNAME:EDT
DTSTART:20180311T070000
END:DAYLIGHT
BEGIN:STANDARD
TZOFFSETFROM:-0400
TZOFFSETTO:-0500
TZNAME:EST
DTSTART:20181104T060000
END:STANDARD
BEGIN:DAYLIGHT
TZOFFSETFROM:-0500
TZOFFSETTO:-0400
TZNAME:EDT
DTSTART:20190310T070000
END:DAYLIGHT
BEGIN:STANDARD
TZOFFSETFROM:-0400
TZOFFSETTO:-0500
TZNAME:EST
DTSTART:20191103T060000
END:STANDARD
BEGIN:DAYLIGHT
TZOFFSETFROM:-0500
TZOFFSETTO:-0400
TZNAME:EDT
DTSTART:20200308T070000
END:DAYLIGHT
BEGIN:STANDARD
TZOFFSETFROM:-0400
TZOFFSETTO:-0500
TZNAME:EST
DTSTART:20201101T060000
END:STANDARD
END:VTIMEZONE
BEGIN:VEVENT
DTSTART;TZID=America/New_York:20191031T190000
DTEND;TZID=America/New_York:20191101T030000
DTSTAMP:20260424T035030
CREATED:20190828T151319Z
LAST-MODIFIED:20190828T151319Z
UID:27226-1572548400-1572577200@wynwoodmiami.com
SUMMARY:Hallowyn Block Party
DESCRIPTION:The #HalloWYNBlockParty is back & better! Wynwood’s OFFICIAL Halloween Block Party is presented by Fireball Cinnamon Whiskey and Modelo in partnership with SWARM\, Inc. The event will take place in the center of Wynwood at The Wynwood Marketplace where we will ignite the night with FREE activities open to all ages. \nThis year\, our A-list bartenders will be serving up signature Fireball Whiskey cocktails which will be bursting with flames throughout the entire night. To satisfy the scariest of cravings\, there will also be over 20 of the best food trucks to choose from\, including Bodega and other signature eateries.\nIlluminated in red\, the Dragon’s Den will showcase cage dancers and fire spinners\, and a hauntingly intriguing marketplace with decked out vendors and entertainment from Miami’s best DJ’s who will be sure to set the scene for a Halloween night to remember. \nDress to impress\, our costume contest will begin at 8:00 PM. Prizes include: $100 bar tab for our second place best dressed guest and $100 in cold\, hard cash for our best dressed guest. For those who think they’ll be killin’ it in the costume department\, make sure to email info@swarminc.com to ensure entry into the contest! \nWith all that being said\, squad up and join thousands of Miami’s most eclectic angels and devils as we #IgniteFrightNight. \nRain or Shine. Naughty or Nice. Alive or Dead. Come one\, come all. \nFor vendor opportunities\, please email hello@thrifter.cool | For sponsorships email partners@swarminc.com \nReserve your FREE Fireball Whisky shot. Must be 21+ to consume alcohol.
URL:https://wynwoodmiami.com/event/hallowyn-block-party/
LOCATION:The Wynwood Marketplace\, 2230 NW 2ND AVE\, Miami\, 33127\, United States
CATEGORIES:Family + Community,Festivals + Markets,Food + Drink,Music + Dance
ATTACH;FMTTYPE=image/jpeg:https://wynwoodmiami.com/wp-content/uploads/HALLOWYN_AVATAR.jpg
ORGANIZER;CN="SWARM Inc.":MAILTO:info@swarminc.com
GEO:25.798705;-80.199403
X-APPLE-STRUCTURED-LOCATION;VALUE=URI;X-ADDRESS=The Wynwood Marketplace 2230 NW 2ND AVE Miami 33127 United States;X-APPLE-RADIUS=500;X-TITLE=2230 NW 2ND AVE:geo:-80.199403,25.798705
END:VEVENT
BEGIN:VEVENT
DTSTART;TZID=America/New_York:20191101T110000
DTEND;TZID=America/New_York:20191101T230000
DTSTAMP:20260424T035030
CREATED:20191008T141917Z
LAST-MODIFIED:20191008T141917Z
UID:27767-1572606000-1572649200@wynwoodmiami.com
SUMMARY:Haunted Laser Tag
DESCRIPTION:Nothing like a room full of zombies to get you in the Halloween mood. Haunted Laser Tag takes over FunDimension for spooky fun! Don’t miss out on your family fun\, this season at FunDimension:  come in your best costume and receive a $15 Game Card on us!
URL:https://wynwoodmiami.com/event/haunted-laser-tag-5/
LOCATION:FunDimension\, 2129 NW 1st Court\, Miami\, FL\, 33127\, United States
CATEGORIES:Family + Community
ATTACH;FMTTYPE=image/jpeg:https://wynwoodmiami.com/wp-content/uploads/HAUNTED-LASER-TAG.jpg
ORGANIZER;CN="FunDimension":MAILTO:info@fundimensionusa.com
END:VEVENT
BEGIN:VEVENT
DTSTART;TZID=America/New_York:20191109T110000
DTEND;TZID=America/New_York:20191109T170000
DTSTAMP:20260424T035030
CREATED:20190827T181609Z
LAST-MODIFIED:20190827T181609Z
UID:27184-1573297200-1573318800@wynwoodmiami.com
SUMMARY:Seed Food & Wine Week
DESCRIPTION:Seed Food and Wine is not just a festival\, we are a movement\, a community of ideas and passionate people committed to elevating the conversation around conscious living. From plant-based food and drink to sustainability to fitness\, we are having conversations and creating experiences to elevate our lives and planet.
URL:https://wynwoodmiami.com/event/seed-food-wine-week/
LOCATION:Mana Wynwood\, 318 NW 23rd St\, Miami\, FL\, 33127\, United States
CATEGORIES:Family + Community,Food + Drink,Health + Fitness,Learning + Enrichment
ATTACH;FMTTYPE=image/jpeg:https://wynwoodmiami.com/wp-content/uploads/Seed19instaA.jpg
GEO:25.7982206;-80.2019551
X-APPLE-STRUCTURED-LOCATION;VALUE=URI;X-ADDRESS=Mana Wynwood 318 NW 23rd St Miami FL 33127 United States;X-APPLE-RADIUS=500;X-TITLE=318 NW 23rd St:geo:-80.2019551,25.7982206
END:VEVENT
BEGIN:VEVENT
DTSTART;TZID=America/New_York:20191113T110000
DTEND;TZID=America/New_York:20191113T133000
DTSTAMP:20260424T035030
CREATED:20190821T184223Z
LAST-MODIFIED:20191105T210736Z
UID:27092-1573642800-1573651800@wynwoodmiami.com
SUMMARY:Wynwood BID Board Meeting
DESCRIPTION:The Wynwood BID will be holding its monthly board meeting at 11:00 am. All are welcome to attend. For the agenda or past meeting minutes\, visit: https://wynwoodmiami.com/learn/meeting-agenda/
URL:https://wynwoodmiami.com/event/wynwood-bid-board-meeting-3-2019-11-13/
LOCATION:WeWork Wynwood Garage\, 360 Northwest 27 Street\, Miami\, FL\, 33127\, United States
CATEGORIES:Family + Community,Learning + Enrichment
ATTACH;FMTTYPE=image/jpeg:https://wynwoodmiami.com/wp-content/uploads/dmargherite_WBID_juneboardmeeting-8622.jpg
END:VEVENT
BEGIN:VEVENT
DTSTART;TZID=America/New_York:20191115T140000
DTEND;TZID=America/New_York:20191116T000000
DTSTAMP:20260424T035030
CREATED:20191107T161728Z
LAST-MODIFIED:20191107T161728Z
UID:28273-1573826400-1573862400@wynwoodmiami.com
SUMMARY:Suviche Wynwood Anniversary
DESCRIPTION:You’re invited to join us in celebrating SuViche Wynwood’s 6th anniversary this November 15th for an all-day fiesta to say happy birthday to our Wynwood family. \nThe festivities kick-off with All-Day drink specials happening from open to close. Our Beat the Clock Drinks begin at 2 pm with $2 drinks\, 3 pm – $3\, 4 pm – $4\, and 5 pm to close – $5. \nThe saucy celebration continues with live music and tantalizing tunes from The Odd Stars for you to dance the night away. Like a fine Pisco\, we get better with age\, and can’t wait to share our party with you!
URL:https://wynwoodmiami.com/event/suviche-wynwood-anniversary/
LOCATION:SuViche Wynwood\, 2751 N Miami Ave\, Miami\, FL\, 33127\, United States
CATEGORIES:Family + Community,Food + Drink,Music + Dance
ATTACH;FMTTYPE=image/png:https://wynwoodmiami.com/wp-content/uploads/Unknown-1.png
GEO:25.802886;-80.1948
X-APPLE-STRUCTURED-LOCATION;VALUE=URI;X-ADDRESS=SuViche Wynwood 2751 N Miami Ave Miami FL 33127 United States;X-APPLE-RADIUS=500;X-TITLE=2751 N Miami Ave:geo:-80.1948,25.802886
END:VEVENT
BEGIN:VEVENT
DTSTART;VALUE=DATE:20191116
DTEND;VALUE=DATE:20191118
DTSTAMP:20260424T035030
CREATED:20191114T174345Z
LAST-MODIFIED:20191114T174345Z
UID:28385-1573862400-1574035199@wynwoodmiami.com
SUMMARY:Grand Opening - Grails Sports Bar
DESCRIPTION:GRAND OPENING of Wynwood’s first and only sports bar. Join us for a day full of events that include: \nA 65 Inch LG 7300 4K TV Giveaway\nA Custom Grails Sneaker Mug Giveaway\nGifts Card and Many Other Prizes\nLive DJ\nLive Entertainment\nRed Carpet Sneaker Walk\nFood And Drink Specials\nand so much more!!!
URL:https://wynwoodmiami.com/event/grand-opening-grails-sports-bar/
LOCATION:Grails Sports Bar\, 2800 North Miami Avenue\, Miami\, FL\, 33127\, United States
CATEGORIES:Family + Community,Food + Drink,Music + Dance
ATTACH;FMTTYPE=image/jpeg:https://wynwoodmiami.com/wp-content/uploads/imgonline-com-ua-twotoone-7cgfAuIP6ZLeVSY.jpg
ORGANIZER;CN="Grails Sports Bar":MAILTO:hello@grailssportsbar.com
GEO:25.803195;-80.1952
X-APPLE-STRUCTURED-LOCATION;VALUE=URI;X-ADDRESS=Grails Sports Bar 2800 North Miami Avenue Miami FL 33127 United States;X-APPLE-RADIUS=500;X-TITLE=2800 North Miami Avenue:geo:-80.1952,25.803195
END:VEVENT
BEGIN:VEVENT
DTSTART;TZID=America/New_York:20191122T170000
DTEND;TZID=America/New_York:20191123T020000
DTSTAMP:20260424T035030
CREATED:20191120T202133Z
LAST-MODIFIED:20191120T202133Z
UID:28453-1574442000-1574474400@wynwoodmiami.com
SUMMARY:Grand Opening - Spanglish Craft Cocktail Bar & Kitchen
DESCRIPTION:Join us for the grand opening of Spanglish Craft Cocktail Bar & Kitchen with complimentary sparkling wine upon arrival. Spanglish is Wynwood’s hottest new craft cocktail bar and restaurant with an innovative group of beverage creators\, The Cocktail Cartel. These talented bartenders have partnered with Giorgio Rapicavoli\, a James Beard award semifinalist and “Chopped” winner to create a one of a kind cocktail bar and restaurant. Join us for the Spanglish grand opening and enjoy a unique dining experience!
URL:https://wynwoodmiami.com/event/grand-opening-spanglish-craft-cocktail-bar-kitchen/
LOCATION:Spanglish Craft Cocktail Bar & Kitchen\, 2808 North Miami Avenue\, Miami\, FL\, 33127\, United States
CATEGORIES:Family + Community,Food + Drink
ATTACH;FMTTYPE=image/jpeg:https://wynwoodmiami.com/wp-content/uploads/bNQ9TmVx.jpg
ORGANIZER;CN="Spanglish Craft Cocktail Bar &amp%3B Kitchen":MAILTO:info@barspanglish.com
GEO:25.803294;-80.195182
X-APPLE-STRUCTURED-LOCATION;VALUE=URI;X-ADDRESS=Spanglish Craft Cocktail Bar & Kitchen 2808 North Miami Avenue Miami FL 33127 United States;X-APPLE-RADIUS=500;X-TITLE=2808 North Miami Avenue:geo:-80.195182,25.803294
END:VEVENT
BEGIN:VEVENT
DTSTART;TZID=America/New_York:20191123T203000
DTEND;TZID=America/New_York:20191123T233000
DTSTAMP:20260424T035030
CREATED:20191119T150829Z
LAST-MODIFIED:20191119T150829Z
UID:28426-1574541000-1574551800@wynwoodmiami.com
SUMMARY:Wilder vs Ortiz
DESCRIPTION:WE HIGHLY RECOMMEND MAKING A RESERVATION IF YOU WANT SEATING. Our events get packed fast! BOOK A TABLE HERE https://grailssportsbar.com/wynwoodmiami/?date=2019-11-23&tag=boxing \nPLAYING LIVE AT GRAILS SPORTS BAR! Heavyweight World Champ Deontay Wilder defends his WBC belt in a highly-anticipated title rematch against Cuban contender Luis Ortiz on Saturday\, Nov. 23. Watch live free of charge\, indoor or out\, on 65 TV’s! Only at Grails!
URL:https://wynwoodmiami.com/event/wilder-vs-ortiz/
LOCATION:Grails Sports Bar\, 2800 North Miami Avenue\, Miami\, FL\, 33127\, United States
CATEGORIES:Family + Community,Food + Drink
ATTACH;FMTTYPE=image/jpeg:https://wynwoodmiami.com/wp-content/uploads/Q4rsFMAS.jpg
ORGANIZER;CN="Grails Sports Bar":MAILTO:hello@grailssportsbar.com
GEO:25.803195;-80.1952
X-APPLE-STRUCTURED-LOCATION;VALUE=URI;X-ADDRESS=Grails Sports Bar 2800 North Miami Avenue Miami FL 33127 United States;X-APPLE-RADIUS=500;X-TITLE=2800 North Miami Avenue:geo:-80.1952,25.803195
END:VEVENT
BEGIN:VEVENT
DTSTART;TZID=America/New_York:20191128T120000
DTEND;TZID=America/New_York:20191129T010000
DTSTAMP:20260424T035030
CREATED:20191122T150329Z
LAST-MODIFIED:20191125T182621Z
UID:28479-1574942400-1574989200@wynwoodmiami.com
SUMMARY:Thanksgiving Day at Grails Sports Bar
DESCRIPTION:Thanksgiving is about traditions\, family and familiarity\, and football is no different. At Grails Sports Bar we’ve got a pair of divisional matchups set up for the day\, sandwiching (get it?) the Cowboys hosting a surprising foe.\nThis year\, three games will be played on Thanksgiving Day and Grails is your spot to view them! \nBears at Lions 12:30 p.m. ET  \nBills at Cowboys\, 4:30 p.m. \nSaints at Falcons\, 8:20 p.m. ET \nOur Thanksgiving menu will include all your Grails favorites including a few special Thanksgiving Day foods by Giorgio Rapicavoli\, a James Beard award semifinalist and “Chopped” winner and the drinks from the talented award winning Cocktail Cartel. Some of the items are: \nSan-Giving Punch\nWild Turkey Bourbon\, Rosemary\, Citrus\, Ginger\, Cranberry & Fall Spices \nPlymouth Rock\nLuxardo Bianco\, Housemade Velvet Flanerum\, Cocchi Americano & Plantation 3 Star Rum \nThanksgiving Burger\nDouble Turkey Patties\, Cranberry BBQ Sauce\, “French’s Onions” & White Cheddar\nServed with Sweet Potato Fries \nSundae on a Thursday\nVanilla Bean Ice Cream\, Pumpkin Pie ‘Fudge”\, Cinnamon Streusel & Burnt Meringue
URL:https://wynwoodmiami.com/event/thanksgiving-day-at-grails-sports-bar/
LOCATION:Grails Sports Bar\, 2800 North Miami Avenue\, Miami\, FL\, 33127\, United States
CATEGORIES:Family + Community,Food + Drink
ATTACH;FMTTYPE=image/jpeg:https://wynwoodmiami.com/wp-content/uploads/download-2.jpg
ORGANIZER;CN="Grails Sports Bar":MAILTO:hello@grailssportsbar.com
GEO:25.803195;-80.1952
X-APPLE-STRUCTURED-LOCATION;VALUE=URI;X-ADDRESS=Grails Sports Bar 2800 North Miami Avenue Miami FL 33127 United States;X-APPLE-RADIUS=500;X-TITLE=2800 North Miami Avenue:geo:-80.1952,25.803195
END:VEVENT
BEGIN:VEVENT
DTSTART;TZID=America/New_York:20191130T110000
DTEND;TZID=America/New_York:20191130T210000
DTSTAMP:20260424T035030
CREATED:20181113T153342Z
LAST-MODIFIED:20191112T201658Z
UID:10179-1575111600-1575147600@wynwoodmiami.com
SUMMARY:Small Business Saturday - Wynwood Shop
DESCRIPTION:Wynwood Shop has joined forces with Small Business Saturday to bring you a Shop Small Event you just can’t miss. \nPeruse countless vendors including: \nTrinkets for D\nDaddy Daughter Jewelry\nTV Head Company\nLe Chic Boutique Miami\nOK4U\nArboleya Moreno Art\nEl Verdecia\nMarcela López Art\nShine Designs\nPhotography by Paloma\nand more. \nSnag Shop Small goodies like totes\, stickers and more when you #WynwoodShop while supplies last. \nAnd there’s so much more to look forward to: Live\, live poetry\, live painting\, and more.
URL:https://wynwoodmiami.com/event/wynwood-shop-small-business-saturday/
LOCATION:The Wynwood Shop\, 181 NW 25th Street\, Miami\, FL\, 33127\, United States
CATEGORIES:Art,Family + Community,Fashion + Design,Festivals + Markets
ATTACH;FMTTYPE=image/jpeg:https://wynwoodmiami.com/wp-content/uploads/Cover-Photo-Social-Media.jpg
ORGANIZER;CN="Wynwood Shop":MAILTO:info@wynwoodshop.com
GEO:25.800816;-80.198627
X-APPLE-STRUCTURED-LOCATION;VALUE=URI;X-ADDRESS=The Wynwood Shop 181 NW 25th Street Miami FL 33127 United States;X-APPLE-RADIUS=500;X-TITLE=181 NW 25th Street:geo:-80.198627,25.800816
END:VEVENT
END:VCALENDAR