BEGIN:VCALENDAR
VERSION:2.0
PRODID:-//Wynwood Business Improvement District -- Miami, Florida - ECPv6.15.16//NONSGML v1.0//EN
CALSCALE:GREGORIAN
METHOD:PUBLISH
X-WR-CALNAME:Wynwood Business Improvement District -- Miami, Florida
X-ORIGINAL-URL:https://wynwoodmiami.com
X-WR-CALDESC:Events for Wynwood Business Improvement District -- Miami, Florida
REFRESH-INTERVAL;VALUE=DURATION:PT1H
X-Robots-Tag:noindex
X-PUBLISHED-TTL:PT1H
BEGIN:VTIMEZONE
TZID:America/New_York
BEGIN:DAYLIGHT
TZOFFSETFROM:-0500
TZOFFSETTO:-0400
TZNAME:EDT
DTSTART:20250309T070000
END:DAYLIGHT
BEGIN:STANDARD
TZOFFSETFROM:-0400
TZOFFSETTO:-0500
TZNAME:EST
DTSTART:20251102T060000
END:STANDARD
BEGIN:DAYLIGHT
TZOFFSETFROM:-0500
TZOFFSETTO:-0400
TZNAME:EDT
DTSTART:20260308T070000
END:DAYLIGHT
BEGIN:STANDARD
TZOFFSETFROM:-0400
TZOFFSETTO:-0500
TZNAME:EST
DTSTART:20261101T060000
END:STANDARD
BEGIN:DAYLIGHT
TZOFFSETFROM:-0500
TZOFFSETTO:-0400
TZNAME:EDT
DTSTART:20270314T070000
END:DAYLIGHT
BEGIN:STANDARD
TZOFFSETFROM:-0400
TZOFFSETTO:-0500
TZNAME:EST
DTSTART:20271107T060000
END:STANDARD
END:VTIMEZONE
BEGIN:VEVENT
DTSTART;TZID=America/New_York:20260417T160000
DTEND;TZID=America/New_York:20260615T233000
DTSTAMP:20260423T022104
CREATED:20260422T150353Z
LAST-MODIFIED:20260422T165555Z
UID:74863-1776441600-1781566200@wynwoodmiami.com
SUMMARY:Where to Watch NBA Playoffs in Wynwood Miami (Best Watch Party) | Grails
DESCRIPTION:If you’re trying to figure out where to watch the NBA Playoffs in Wynwood\, Miami\, Grails is one of the spots people end up once the games actually start to matter. \nTables start filling early\, the crowd builds throughout the night\, and most groups stay for multiple games instead of bouncing around. \nFor anyone nearby looking for a sports bar in Wynwood during the NBA Playoffs\, this is one of the easier places to settle in and actually watch the game. Reserve for tonight’s game at Wywnood’s best sports bar! \n🔥 NBA Playoffs at Grails Miami \nPlayoff basketball at Grails isn’t background noise — it’s the reason people are there. \n70+ TVs across the venue\nLarge projector for marquee matchups\nIndoor seating + outdoor patio\nMultiple games on at once\nBuilt for full-night viewing\nFrom early tip-offs to late-night finishes\, the energy builds with each game. \n📍 Where to Watch NBA Playoffs in Wynwood \nNot every bar is set up for playoff basketball. \nSome places have the game on.\nOthers actually feel like a watch party. \nGrails is one of the more consistent spots in Wynwood for NBA Playoffs watch parties\, especially for people who want: \nFull game sound\nA crowd that’s locked in\nSpace to stay for multiple games \nIndoor and outdoor seating \n🍗 Food\, Drinks & Game Day Setup \nOnce you’re locked into a playoff game\, you’re not leaving after one quarter. \nAt Grails: \nWing Wednesday specials\nBeer buckets & pitchers\nSignature sneaker cocktails\nFull kitchen (wings\, burgers\, tacos)\nIt’s built for people staying through the full slate. \n📍 Location \nGrails Miami\n2800 N Miami Ave\nMiami\, FL 33127\nWynwood \nGame Day Hours & When to Go \nDuring the NBA Playoffs\, timing matters—especially for bigger matchups. \nGrails is open throughout the week\, with extended hours on weekends when the crowd builds earlier and stays later for multiple games. \nHours: \nMonday – Thursday: 4 PM – 12 AM\nFriday: 12 PM – 1 AM\nSaturday: 11 AM – 1 AM\nSunday: 11 AM – 12 AM\nWeekday Happy Hour: 4 PM – 7 PM\nWeekend Brunch: Saturday & Sunday\, 11 AM – 4 PM \nFor marquee games\, most people arrive early and stay through multiple matchups rather than bouncing between spots. \n⚠️ Plan Ahead \nPlayoff games bring consistent traffic to Wynwood. \nGroups tend to arrive early and stay for multiple matchups — especially as the series heats up. \n🧠 Final Take \nIf you’re deciding where to watch the NBA Playoffs in Wynwood\, it comes down to one thing: \n👉 Are you just catching the game\, or actually watching it? \nAt Grails\, it’s the reason people pull up.
URL:https://wynwoodmiami.com/event/where-to-watch-nba-playoffs-in-wynwood-miami-best-sports-bar-for-every-game/
LOCATION:Grails Sports Bar\, 2800 North Miami Avenue\, Miami\, FL\, 33127\, United States
CATEGORIES:Food + Drink,Sports
ATTACH;FMTTYPE=image/jpeg:https://wynwoodmiami.com/wp-content/uploads/nba-playoffs-watch-party-wynwood-miami-crowd-reaction-1.jpg-1-scaled.jpg
ORGANIZER;CN="Grails Sports Bar":MAILTO:hello@grailssportsbar.com
GEO:25.803195;-80.1952
X-APPLE-STRUCTURED-LOCATION;VALUE=URI;X-ADDRESS=Grails Sports Bar 2800 North Miami Avenue Miami FL 33127 United States;X-APPLE-RADIUS=500;X-TITLE=2800 North Miami Avenue:geo:-80.1952,25.803195
END:VEVENT
BEGIN:VEVENT
DTSTART;TZID=America/New_York:20260418T080000
DTEND;TZID=America/New_York:20260619T170000
DTSTAMP:20260423T022104
CREATED:20260422T135606Z
LAST-MODIFIED:20260422T135606Z
UID:74821-1776499200-1781888400@wynwoodmiami.com
SUMMARY:NBA Playoffs at Bar Tulio's
DESCRIPTION:🏀The road to the Finals starts here… \nCatch every moment of the NBA Playoffs at Bar Tulio’s — from now through the final game. \nGame sound ON. Energy UP. Tequila flowing. \n April 18 – June 19 | Weekday Games \nHappy Hour: Monday–Friday | 5PM–7PM \n\nWeekend Game Days \nBottomless Brunch: Weekends | 12PM–4PMGame Day Specials: Wings + Buckets | Weekends 12PM–7PM\n \nFrom buzzer beaters to big wins\, this is your go-to spot in Wynwood for every game\, every round\, every screen. \nReservations encouraged — secure your game day table now.
URL:https://wynwoodmiami.com/event/nba-playoffs-at-bar-tulios/
LOCATION:FL
CATEGORIES:Food + Drink,Sports
ATTACH;FMTTYPE=image/jpeg:https://wynwoodmiami.com/wp-content/uploads/nba-playoffs-2026-grid.jpg
END:VEVENT
END:VCALENDAR