BEGIN:VCALENDAR
VERSION:2.0
PRODID:-//Wynwood Business Improvement District -- Miami, Florida - ECPv6.15.16//NONSGML v1.0//EN
CALSCALE:GREGORIAN
METHOD:PUBLISH
X-WR-CALNAME:Wynwood Business Improvement District -- Miami, Florida
X-ORIGINAL-URL:https://wynwoodmiami.com
X-WR-CALDESC:Events for Wynwood Business Improvement District -- Miami, Florida
REFRESH-INTERVAL;VALUE=DURATION:PT1H
X-Robots-Tag:noindex
X-PUBLISHED-TTL:PT1H
BEGIN:VTIMEZONE
TZID:America/New_York
BEGIN:DAYLIGHT
TZOFFSETFROM:-0500
TZOFFSETTO:-0400
TZNAME:EDT
DTSTART:20250309T070000
END:DAYLIGHT
BEGIN:STANDARD
TZOFFSETFROM:-0400
TZOFFSETTO:-0500
TZNAME:EST
DTSTART:20251102T060000
END:STANDARD
BEGIN:DAYLIGHT
TZOFFSETFROM:-0500
TZOFFSETTO:-0400
TZNAME:EDT
DTSTART:20260308T070000
END:DAYLIGHT
BEGIN:STANDARD
TZOFFSETFROM:-0400
TZOFFSETTO:-0500
TZNAME:EST
DTSTART:20261101T060000
END:STANDARD
BEGIN:DAYLIGHT
TZOFFSETFROM:-0500
TZOFFSETTO:-0400
TZNAME:EDT
DTSTART:20270314T070000
END:DAYLIGHT
BEGIN:STANDARD
TZOFFSETFROM:-0400
TZOFFSETTO:-0500
TZNAME:EST
DTSTART:20271107T060000
END:STANDARD
END:VTIMEZONE
BEGIN:VEVENT
DTSTART;TZID=America/New_York:20260421T183000
DTEND;TZID=America/New_York:20260421T203000
DTSTAMP:20260420T163317
CREATED:20260420T164137Z
LAST-MODIFIED:20260420T164432Z
UID:74766-1776796200-1776803400@wynwoodmiami.com
SUMMARY:Wynwood Run Project
DESCRIPTION:A Blank Canvas: Everything starts here @wynwoodrunproject \nThe Wynwood Run is a social run club in Miami’s Artistic Neighborhood. It’s all about getting together for weekly runs\, exploring the cool streets with it’s art and staying active while engaging the community. Whether you’re a seasoned runner or just looking to meet new people and get moving\, it’s a great way to see the neighborhood and enjoy some good vibes! \nHosted by La Byci
URL:https://wynwoodmiami.com/event/wynwood-run-project/2026-04-21/
LOCATION:La Byci\, 172 NW 26th St\, Miami\, 33127\, United States
CATEGORIES:Family + Community,Health + Fitness
ATTACH;FMTTYPE=image/jpeg:https://wynwoodmiami.com/wp-content/uploads/264077235_tmp_1776701776143_ff7567d8-6bde-4f90-9427-79156a698744-or.jpg.jpeg
END:VEVENT
BEGIN:VEVENT
DTSTART;TZID=America/New_York:20260428T183000
DTEND;TZID=America/New_York:20260428T203000
DTSTAMP:20260420T163317
CREATED:20260420T164137Z
LAST-MODIFIED:20260420T164435Z
UID:74768-1777401000-1777408200@wynwoodmiami.com
SUMMARY:Wynwood Run Project
DESCRIPTION:A Blank Canvas: Everything starts here @wynwoodrunproject \nThe Wynwood Run is a social run club in Miami’s Artistic Neighborhood. It’s all about getting together for weekly runs\, exploring the cool streets with it’s art and staying active while engaging the community. Whether you’re a seasoned runner or just looking to meet new people and get moving\, it’s a great way to see the neighborhood and enjoy some good vibes! \nHosted by La Byci
URL:https://wynwoodmiami.com/event/wynwood-run-project/2026-04-28/
LOCATION:La Byci\, 172 NW 26th St\, Miami\, 33127\, United States
CATEGORIES:Family + Community,Health + Fitness
ATTACH;FMTTYPE=image/jpeg:https://wynwoodmiami.com/wp-content/uploads/264077235_tmp_1776701776143_ff7567d8-6bde-4f90-9427-79156a698744-or.jpg.jpeg
END:VEVENT
BEGIN:VEVENT
DTSTART;TZID=America/New_York:20260505T183000
DTEND;TZID=America/New_York:20260505T203000
DTSTAMP:20260420T163317
CREATED:20260420T164137Z
LAST-MODIFIED:20260420T164435Z
UID:74769-1778005800-1778013000@wynwoodmiami.com
SUMMARY:Wynwood Run Project
DESCRIPTION:A Blank Canvas: Everything starts here @wynwoodrunproject \nThe Wynwood Run is a social run club in Miami’s Artistic Neighborhood. It’s all about getting together for weekly runs\, exploring the cool streets with it’s art and staying active while engaging the community. Whether you’re a seasoned runner or just looking to meet new people and get moving\, it’s a great way to see the neighborhood and enjoy some good vibes! \nHosted by La Byci
URL:https://wynwoodmiami.com/event/wynwood-run-project/2026-05-05/
LOCATION:La Byci\, 172 NW 26th St\, Miami\, 33127\, United States
CATEGORIES:Family + Community,Health + Fitness
ATTACH;FMTTYPE=image/jpeg:https://wynwoodmiami.com/wp-content/uploads/264077235_tmp_1776701776143_ff7567d8-6bde-4f90-9427-79156a698744-or.jpg.jpeg
END:VEVENT
BEGIN:VEVENT
DTSTART;TZID=America/New_York:20260512T183000
DTEND;TZID=America/New_York:20260512T203000
DTSTAMP:20260420T163317
CREATED:20260420T164137Z
LAST-MODIFIED:20260420T164435Z
UID:74770-1778610600-1778617800@wynwoodmiami.com
SUMMARY:Wynwood Run Project
DESCRIPTION:A Blank Canvas: Everything starts here @wynwoodrunproject \nThe Wynwood Run is a social run club in Miami’s Artistic Neighborhood. It’s all about getting together for weekly runs\, exploring the cool streets with it’s art and staying active while engaging the community. Whether you’re a seasoned runner or just looking to meet new people and get moving\, it’s a great way to see the neighborhood and enjoy some good vibes! \nHosted by La Byci
URL:https://wynwoodmiami.com/event/wynwood-run-project/2026-05-12/
LOCATION:La Byci\, 172 NW 26th St\, Miami\, 33127\, United States
CATEGORIES:Family + Community,Health + Fitness
ATTACH;FMTTYPE=image/jpeg:https://wynwoodmiami.com/wp-content/uploads/264077235_tmp_1776701776143_ff7567d8-6bde-4f90-9427-79156a698744-or.jpg.jpeg
END:VEVENT
BEGIN:VEVENT
DTSTART;TZID=America/New_York:20260519T183000
DTEND;TZID=America/New_York:20260519T203000
DTSTAMP:20260420T163317
CREATED:20260420T164137Z
LAST-MODIFIED:20260420T164436Z
UID:74771-1779215400-1779222600@wynwoodmiami.com
SUMMARY:Wynwood Run Project
DESCRIPTION:A Blank Canvas: Everything starts here @wynwoodrunproject \nThe Wynwood Run is a social run club in Miami’s Artistic Neighborhood. It’s all about getting together for weekly runs\, exploring the cool streets with it’s art and staying active while engaging the community. Whether you’re a seasoned runner or just looking to meet new people and get moving\, it’s a great way to see the neighborhood and enjoy some good vibes! \nHosted by La Byci
URL:https://wynwoodmiami.com/event/wynwood-run-project/2026-05-19/
LOCATION:La Byci\, 172 NW 26th St\, Miami\, 33127\, United States
CATEGORIES:Family + Community,Health + Fitness
ATTACH;FMTTYPE=image/jpeg:https://wynwoodmiami.com/wp-content/uploads/264077235_tmp_1776701776143_ff7567d8-6bde-4f90-9427-79156a698744-or.jpg.jpeg
END:VEVENT
END:VCALENDAR