BEGIN:VCALENDAR
VERSION:2.0
PRODID:-//Wynwood Business Improvement District -- Miami, Florida - ECPv6.15.16//NONSGML v1.0//EN
CALSCALE:GREGORIAN
METHOD:PUBLISH
X-ORIGINAL-URL:https://wynwoodmiami.com
X-WR-CALDESC:Events for Wynwood Business Improvement District -- Miami, Florida
REFRESH-INTERVAL;VALUE=DURATION:PT1H
X-Robots-Tag:noindex
X-PUBLISHED-TTL:PT1H
BEGIN:VTIMEZONE
TZID:America/New_York
BEGIN:DAYLIGHT
TZOFFSETFROM:-0500
TZOFFSETTO:-0400
TZNAME:EDT
DTSTART:20200308T070000
END:DAYLIGHT
BEGIN:STANDARD
TZOFFSETFROM:-0400
TZOFFSETTO:-0500
TZNAME:EST
DTSTART:20201101T060000
END:STANDARD
BEGIN:DAYLIGHT
TZOFFSETFROM:-0500
TZOFFSETTO:-0400
TZNAME:EDT
DTSTART:20210314T070000
END:DAYLIGHT
BEGIN:STANDARD
TZOFFSETFROM:-0400
TZOFFSETTO:-0500
TZNAME:EST
DTSTART:20211107T060000
END:STANDARD
BEGIN:DAYLIGHT
TZOFFSETFROM:-0500
TZOFFSETTO:-0400
TZNAME:EDT
DTSTART:20220313T070000
END:DAYLIGHT
BEGIN:STANDARD
TZOFFSETFROM:-0400
TZOFFSETTO:-0500
TZNAME:EST
DTSTART:20221106T060000
END:STANDARD
END:VTIMEZONE
BEGIN:VEVENT
DTSTART;TZID=America/New_York:20211130T090000
DTEND;TZID=America/New_York:20211130T220000
DTSTAMP:20260421T115056
CREATED:20211130T165323Z
LAST-MODIFIED:20211130T165323Z
UID:44776-1638262800-1638309600@wynwoodmiami.com
SUMMARY:Ur Special Coffee Pop-Up
DESCRIPTION:Join Coolman Coffeedan\, The Art Plug and Marcel Katz Art for a Miami Art Week pop-up. The pop-up will feature limited edition coffee\, cups\, art prints and other items. \n 
URL:https://wynwoodmiami.com/event/ur-special-coffee-pop-up/2021-11-30/
LOCATION:The Bagel Club\, 2400 North Miami Avenue\, Miami\, FL\, 33127\, United States
CATEGORIES:Art,Food + Drink
ATTACH;FMTTYPE=image/png:https://wynwoodmiami.com/wp-content/uploads/Screen-Shot-2021-11-30-at-11.47.53-AM.png
ORGANIZER;CN="The Bagel Club Miami":MAILTO:info@bagelclubmiami.com
END:VEVENT
END:VCALENDAR