BEGIN:VCALENDAR
VERSION:2.0
PRODID:-//Wynwood Business Improvement District -- Miami, Florida - ECPv6.15.16//NONSGML v1.0//EN
CALSCALE:GREGORIAN
METHOD:PUBLISH
X-WR-CALNAME:Wynwood Business Improvement District -- Miami, Florida
X-ORIGINAL-URL:https://wynwoodmiami.com
X-WR-CALDESC:Events for Wynwood Business Improvement District -- Miami, Florida
REFRESH-INTERVAL;VALUE=DURATION:PT1H
X-Robots-Tag:noindex
X-PUBLISHED-TTL:PT1H
BEGIN:VTIMEZONE
TZID:America/New_York
BEGIN:DAYLIGHT
TZOFFSETFROM:-0500
TZOFFSETTO:-0400
TZNAME:EDT
DTSTART:20200308T070000
END:DAYLIGHT
BEGIN:STANDARD
TZOFFSETFROM:-0400
TZOFFSETTO:-0500
TZNAME:EST
DTSTART:20201101T060000
END:STANDARD
BEGIN:DAYLIGHT
TZOFFSETFROM:-0500
TZOFFSETTO:-0400
TZNAME:EDT
DTSTART:20210314T070000
END:DAYLIGHT
BEGIN:STANDARD
TZOFFSETFROM:-0400
TZOFFSETTO:-0500
TZNAME:EST
DTSTART:20211107T060000
END:STANDARD
BEGIN:DAYLIGHT
TZOFFSETFROM:-0500
TZOFFSETTO:-0400
TZNAME:EDT
DTSTART:20220313T070000
END:DAYLIGHT
BEGIN:STANDARD
TZOFFSETFROM:-0400
TZOFFSETTO:-0500
TZNAME:EST
DTSTART:20221106T060000
END:STANDARD
END:VTIMEZONE
BEGIN:VEVENT
DTSTART;TZID=America/New_York:20211202T120000
DTEND;TZID=America/New_York:20211202T200000
DTSTAMP:20260423T190602
CREATED:20211007T184841Z
LAST-MODIFIED:20211124T160623Z
UID:43912-1638446400-1638475200@wynwoodmiami.com
SUMMARY:Spectrum and Red Dot Miami
DESCRIPTION:Spectrum Miami is a curated art fair presenting 150+ independent career artists\, studios\, and younger galleries that are pushing the boundaries in surprising and significant ways. Taking place amidst Miami Art Week\, Spectrum Miami offers the unique opportunity to talk to the artists\, learn their stories\, and take home pieces you love. \nRed Dot Miami is a curated gallery-only contemporary art fair during Miami Art Week. In addition to showcasing 75 of the top galleries from around the world\, Red Dot Miami features a provocative agenda that includes site-specific installations\, ongoing collaborations with our partners\, and specially commissioned events that take place during the fair.
URL:https://wynwoodmiami.com/event/spectrum-and-red-dot-miami/2021-12-02/
LOCATION:Mana Wynwood\, 318 NW 23rd St\, Miami\, FL\, 33127\, United States
CATEGORIES:Art,Family + Community
ATTACH;FMTTYPE=image/png:https://wynwoodmiami.com/wp-content/uploads/Screen-Shot-2021-10-06-at-7.59.19-PM.png
ORGANIZER;CN="Redwood Group":MAILTO:info@redwoodartgroup.com
GEO:25.7982206;-80.2019551
X-APPLE-STRUCTURED-LOCATION;VALUE=URI;X-ADDRESS=Mana Wynwood 318 NW 23rd St Miami FL 33127 United States;X-APPLE-RADIUS=500;X-TITLE=318 NW 23rd St:geo:-80.2019551,25.7982206
END:VEVENT
END:VCALENDAR