BEGIN:VCALENDAR
VERSION:2.0
PRODID:-//Wynwood Business Improvement District -- Miami, Florida - ECPv6.15.16//NONSGML v1.0//EN
CALSCALE:GREGORIAN
METHOD:PUBLISH
X-WR-CALNAME:Wynwood Business Improvement District -- Miami, Florida
X-ORIGINAL-URL:https://wynwoodmiami.com
X-WR-CALDESC:Events for Wynwood Business Improvement District -- Miami, Florida
REFRESH-INTERVAL;VALUE=DURATION:PT1H
X-Robots-Tag:noindex
X-PUBLISHED-TTL:PT1H
BEGIN:VTIMEZONE
TZID:America/New_York
BEGIN:DAYLIGHT
TZOFFSETFROM:-0500
TZOFFSETTO:-0400
TZNAME:EDT
DTSTART:20210314T070000
END:DAYLIGHT
BEGIN:STANDARD
TZOFFSETFROM:-0400
TZOFFSETTO:-0500
TZNAME:EST
DTSTART:20211107T060000
END:STANDARD
BEGIN:DAYLIGHT
TZOFFSETFROM:-0500
TZOFFSETTO:-0400
TZNAME:EDT
DTSTART:20220313T070000
END:DAYLIGHT
BEGIN:STANDARD
TZOFFSETFROM:-0400
TZOFFSETTO:-0500
TZNAME:EST
DTSTART:20221106T060000
END:STANDARD
BEGIN:DAYLIGHT
TZOFFSETFROM:-0500
TZOFFSETTO:-0400
TZNAME:EDT
DTSTART:20230312T070000
END:DAYLIGHT
BEGIN:STANDARD
TZOFFSETFROM:-0400
TZOFFSETTO:-0500
TZNAME:EST
DTSTART:20231105T060000
END:STANDARD
END:VTIMEZONE
BEGIN:VEVENT
DTSTART;TZID=America/New_York:20220416T100000
DTEND;TZID=America/New_York:20220416T160000
DTSTAMP:20260420T074559
CREATED:20220329T144447Z
LAST-MODIFIED:20220329T144447Z
UID:46638-1650103200-1650124800@wynwoodmiami.com
SUMMARY:Paving Paradise
DESCRIPTION:The University of Miami presents Paving Paradise\, a Master of Fine Arts exhibition by Kimberly Bauldree at the University of Miami Wynwood Gallery. Paving Paradise combines the photographic document\, video\, and hand-built ceramic installations to explore human relationship with blue spaces. \nKimberly Bauldree’s love for the water flows through her artwork. She combines video installations with hundreds of handmade ceramic pinch-pots to create an exhibit that oozes watery seduction while delivering a satirical note to the profane management of natural water resources. Bauldree builds layers of detail in her work. Graphically appealing tile installations reveal tessellated photographs of beach erosion in front of high-rise condominiums. She creates textured patterns in the clay with objects found on shorelines and uses water as a tool to erode the surface. \nHer vessels are glazed in shimmering blue-green tones and feature sepia-colored photographic images from public archives. As a nod to surrealist influences\, Bauldree developed a series of landlubber characters adorned in dive helmets to represent the isolation of base desire in contrast to stewardship of nature. These quirky characters play out an open-ended narrative on decorative platters. \nAbout the Artist \nKimberly Bauldree is a fourth generation Floridian whose background in photojournalism and documentary film fueled her curiosity about the natural world and the complex ways that humans revere and exploit natural water resources. She has a Bachelor of Fine Arts in Creative Photography and Master of Arts in Mass Communications\, Documentary Film\, from the University of Florida. \nBauldree worked as a photojournalist in Florida and New York\, taught Photojournalism at the University of Florida\, and produced short documentary-style videos including the official live version music video\, Crystal River\, for Tom Petty’s band Mudcrutch. \nPaving Paradise will be on view until April 25\, 2022\, at the University of Miami Gallery located inside the Wynwood Building\, 2750 NW 3rd Avenue\, Suite 4\, Miami\, FL 33127. Gallery hours are Wednesday\, Thursday\, and Friday\, 10:00 a.m. to 4:00 p.m. or by appointment. *Hours may be subject to change; please call (305) 284-3161 to confirm times.  \nFor more information and online offerings\, please visit www.as.miami.edu/art or contact Milly Cardoso\, Gallery Director at m.cardoso1@miami.edu. To stay up to date\, follow us on Instagram and Twitter (@umartgalleries) and YouTube. \n*Image: Kimberly Bauldree\, Miss Merriweather’s Private Beach\, 2021\, Mono-printed stoneware\, engobes\, underglaze\, glaze\, 14” x 14”
URL:https://wynwoodmiami.com/event/paving-paradise/2022-04-16/
LOCATION:University of Miami Gallery\, 2750 Northwest 3 Avenue\, Suite 4\, Miami\, FL\, 33127\, United States
CATEGORIES:Art
ATTACH;FMTTYPE=image/jpeg:https://wynwoodmiami.com/wp-content/uploads/kimberly-bauldree.jpg
GEO:25.802487;-80.201751
X-APPLE-STRUCTURED-LOCATION;VALUE=URI;X-ADDRESS=University of Miami Gallery 2750 Northwest 3 Avenue Suite 4 Miami FL 33127 United States;X-APPLE-RADIUS=500;X-TITLE=2750 Northwest 3 Avenue\, Suite 4:geo:-80.201751,25.802487
END:VEVENT
END:VCALENDAR