BEGIN:VCALENDAR
VERSION:2.0
PRODID:-//Wynwood Business Improvement District -- Miami, Florida - ECPv6.15.16//NONSGML v1.0//EN
CALSCALE:GREGORIAN
METHOD:PUBLISH
X-WR-CALNAME:Wynwood Business Improvement District -- Miami, Florida
X-ORIGINAL-URL:https://wynwoodmiami.com
X-WR-CALDESC:Events for Wynwood Business Improvement District -- Miami, Florida
REFRESH-INTERVAL;VALUE=DURATION:PT1H
X-Robots-Tag:noindex
X-PUBLISHED-TTL:PT1H
BEGIN:VTIMEZONE
TZID:America/New_York
BEGIN:DAYLIGHT
TZOFFSETFROM:-0500
TZOFFSETTO:-0400
TZNAME:EDT
DTSTART:20190310T070000
END:DAYLIGHT
BEGIN:STANDARD
TZOFFSETFROM:-0400
TZOFFSETTO:-0500
TZNAME:EST
DTSTART:20191103T060000
END:STANDARD
BEGIN:DAYLIGHT
TZOFFSETFROM:-0500
TZOFFSETTO:-0400
TZNAME:EDT
DTSTART:20200308T070000
END:DAYLIGHT
BEGIN:STANDARD
TZOFFSETFROM:-0400
TZOFFSETTO:-0500
TZNAME:EST
DTSTART:20201101T060000
END:STANDARD
BEGIN:DAYLIGHT
TZOFFSETFROM:-0500
TZOFFSETTO:-0400
TZNAME:EDT
DTSTART:20210314T070000
END:DAYLIGHT
BEGIN:STANDARD
TZOFFSETFROM:-0400
TZOFFSETTO:-0500
TZNAME:EST
DTSTART:20211107T060000
END:STANDARD
END:VTIMEZONE
BEGIN:VEVENT
DTSTART;TZID=America/New_York:20200312T110000
DTEND;TZID=America/New_York:20200312T190000
DTSTAMP:20260420T051106
CREATED:20200214T201205Z
LAST-MODIFIED:20200214T201205Z
UID:32143-1584010800-1584039600@wynwoodmiami.com
SUMMARY:Louvienne Trunk Show
DESCRIPTION:Try on Louvienne’s newest 2020 collection and find your perfect gown!\nGet an additional 10% off your dress when you say yes!
URL:https://wynwoodmiami.com/event/louvienne-trunk-show-3/2020-03-12/
LOCATION:Lovely Bride\, 175 NW 25th Street\, Miami\, FL\, 33127\, United States
CATEGORIES:Fashion + Design
ATTACH;FMTTYPE=image/jpeg:https://wynwoodmiami.com/wp-content/uploads/Louvienne_ValentinaFront.jpg
ORGANIZER;CN="Lovely Bride":MAILTO:BIZ@LOVELYBRIDE.COM
GEO:25.8009445;-80.1985514
X-APPLE-STRUCTURED-LOCATION;VALUE=URI;X-ADDRESS=Lovely Bride 175 NW 25th Street Miami FL 33127 United States;X-APPLE-RADIUS=500;X-TITLE=175 NW 25th Street:geo:-80.1985514,25.8009445
END:VEVENT
END:VCALENDAR