BEGIN:VCALENDAR
VERSION:2.0
PRODID:-//Wynwood Business Improvement District -- Miami, Florida - ECPv6.15.16//NONSGML v1.0//EN
CALSCALE:GREGORIAN
METHOD:PUBLISH
X-ORIGINAL-URL:https://wynwoodmiami.com
X-WR-CALDESC:Events for Wynwood Business Improvement District -- Miami, Florida
REFRESH-INTERVAL;VALUE=DURATION:PT1H
X-Robots-Tag:noindex
X-PUBLISHED-TTL:PT1H
BEGIN:VTIMEZONE
TZID:America/New_York
BEGIN:DAYLIGHT
TZOFFSETFROM:-0500
TZOFFSETTO:-0400
TZNAME:EDT
DTSTART:20210314T070000
END:DAYLIGHT
BEGIN:STANDARD
TZOFFSETFROM:-0400
TZOFFSETTO:-0500
TZNAME:EST
DTSTART:20211107T060000
END:STANDARD
BEGIN:DAYLIGHT
TZOFFSETFROM:-0500
TZOFFSETTO:-0400
TZNAME:EDT
DTSTART:20220313T070000
END:DAYLIGHT
BEGIN:STANDARD
TZOFFSETFROM:-0400
TZOFFSETTO:-0500
TZNAME:EST
DTSTART:20221106T060000
END:STANDARD
BEGIN:DAYLIGHT
TZOFFSETFROM:-0500
TZOFFSETTO:-0400
TZNAME:EDT
DTSTART:20230312T070000
END:DAYLIGHT
BEGIN:STANDARD
TZOFFSETFROM:-0400
TZOFFSETTO:-0500
TZNAME:EST
DTSTART:20231105T060000
END:STANDARD
END:VTIMEZONE
BEGIN:VEVENT
DTSTART;TZID=America/New_York:20220302T100000
DTEND;TZID=America/New_York:20220302T160000
DTSTAMP:20260421T043320
CREATED:20220217T214822Z
LAST-MODIFIED:20220217T214822Z
UID:46028-1646215200-1646236800@wynwoodmiami.com
SUMMARY:Bright Embers
DESCRIPTION:The University of Miami presents Bright Embers\, a Master of Fine Arts exhibition by Talia Ceravolo at the University of Miami Wynwood Gallery\, in Miami\, FL.  The show features a series of vibrantly colored portraits painted on a selection of square and hand-built\, organically shaped canvases. \nBright Embers\, Ceravolo’s first solo exhibition in Miami\, debuts closely cropped portraits of the artist’s friends and female artists within her community. The direct gaze of her subjects in combination with the richness of her color palette evokes intimacy and warmth between subject and viewer. Ceravolo’s paintings reflect her fascination with individuality and her desire to capture the spirit of each personality\, the “bright ember” within all of us. \nABOUT THE ARTIST  \nTalia Ceravolo is a Miami based contemporary portrait painter working primarily in the medium of oil on canvas. Originally from San Diego\, CA\, Ceravolo completed her Bachelor of Arts degree in Studio Arts with an Emphasis in Oil Painting at San Diego State University in 2013. Talia furthered her education with an independent study of classical Master techniques at the Atelier San Juan in Puerto Rico. In 2019 she was accepted to the MFA program at University of Miami and was awarded the TA Fellowship.  In the pursuit of her expansion as an artist and fueled by her inspiration of the natural world\, she experiments with moving beyond traditional canvases\, developing methods for building organically shaped and stretched supports. \nBright Embers will be on view until March 14\, 2022\, at the University of Miami Gallery located inside the Wynwood Building\, 2750 NW 3rd Avenue\, Suite 4\, Miami\, FL 33127. Gallery hours are Wednesday\, Thursday\, and Friday\, 10:00 a.m. to 4:00 p.m. or by appointment. *Hours may be subject to change; please call (305) 284-3161 to confirm times.  \nFor more information and online offerings\, please visit www.as.miami.edu/art or contact Milly Cardoso\, Gallery Director at m.cardoso1@miami.edu. To stay up to date\, follow us on Instagram and Twitter @umartgalleries and YouTube. \n*Image: Talia Ceravolo\, A Time Not Long Ago\, 2021\, oil on canvas\, 48×48
URL:https://wynwoodmiami.com/event/bright-embers/2022-03-02/
LOCATION:University of Miami Gallery\, 2750 Northwest 3 Avenue\, Suite 4\, Miami\, FL\, 33127\, United States
CATEGORIES:Art
ATTACH;FMTTYPE=image/jpeg:https://wynwoodmiami.com/wp-content/uploads/UM-show.jpg
GEO:25.802487;-80.201751
X-APPLE-STRUCTURED-LOCATION;VALUE=URI;X-ADDRESS=University of Miami Gallery 2750 Northwest 3 Avenue Suite 4 Miami FL 33127 United States;X-APPLE-RADIUS=500;X-TITLE=2750 Northwest 3 Avenue\, Suite 4:geo:-80.201751,25.802487
END:VEVENT
END:VCALENDAR